BEGIN:VCALENDAR
VERSION:2.0
PRODID:-//Epoxy Ontario - ECPv6.15.17//NONSGML v1.0//EN
CALSCALE:GREGORIAN
METHOD:PUBLISH
X-ORIGINAL-URL:https://epoxyontario.ca
X-WR-CALDESC:Events for Epoxy Ontario
REFRESH-INTERVAL;VALUE=DURATION:PT1H
X-Robots-Tag:noindex
X-PUBLISHED-TTL:PT1H
BEGIN:VTIMEZONE
TZID:America/Toronto
BEGIN:DAYLIGHT
TZOFFSETFROM:-0500
TZOFFSETTO:-0400
TZNAME:EDT
DTSTART:20250309T070000
END:DAYLIGHT
BEGIN:STANDARD
TZOFFSETFROM:-0400
TZOFFSETTO:-0500
TZNAME:EST
DTSTART:20251102T060000
END:STANDARD
BEGIN:DAYLIGHT
TZOFFSETFROM:-0500
TZOFFSETTO:-0400
TZNAME:EDT
DTSTART:20260308T070000
END:DAYLIGHT
BEGIN:STANDARD
TZOFFSETFROM:-0400
TZOFFSETTO:-0500
TZNAME:EST
DTSTART:20261101T060000
END:STANDARD
BEGIN:DAYLIGHT
TZOFFSETFROM:-0500
TZOFFSETTO:-0400
TZNAME:EDT
DTSTART:20270314T070000
END:DAYLIGHT
BEGIN:STANDARD
TZOFFSETFROM:-0400
TZOFFSETTO:-0500
TZNAME:EST
DTSTART:20271107T060000
END:STANDARD
END:VTIMEZONE
BEGIN:VEVENT
DTSTART;TZID=America/Toronto:20260423T180000
DTEND;TZID=America/Toronto:20260423T200000
DTSTAMP:20260420T031624
CREATED:20250319T104751Z
LAST-MODIFIED:20251029T191535Z
UID:3868-1776967200-1776974400@epoxyontario.ca
SUMMARY:2026 CASTING CLASSES - LEVEL 2 EPOXY WORKSHOPS - KINCARDINE
DESCRIPTION:LEVEL 2 CLASSES\nTHIS CLASS IS PERFECT FOR THOSE ENTHUSIASTS THAT WOULD LIKE TO FOCUS MORE ON A SKILL LEVEL. \nRUNS OVER THE DURATION OF TWO CLASSES – THURSDAY APRIL 23 2026 @ 6PM AND SATURDAY APRIL 25 2026 @ 2PM – FIRST CLASS WILL BE PREPARATION AND POURING\, SECOND CLASS WILL BE DEMOULDING AND FINISHING PROCESS. EACH CLASS WILL ONLY RUN FOR 3 HOURS BUT IT IS MANDATORY TO ATTEND BOTH!!! \nCOMPLETELY HANDS ON AND YOU WILL BE CREATING YOUR OWN PROJECT!!! \n12″ ROUND CLOCK/LAZY SUSAN = $345 PLUS TAX \n12″ X 16″ RIVER BOARD = $345 PLUS TAX \n9″ HEXAGON TEA LIGHT CANDLE = $325 PLUS TAX \n  \n50% PLUS TAX DUE AT TIME OF REGISTRATION – BALANCE IS DUE DAY OF WORKSHOP \n**DEPOSITS ARE NON-REFUNDABLE – NO SHOW TO THE CLASS WILL RESULT IN AMOUNT OUTSTANDING STILL BEING BILLED TO YOU = ZERO EXCEPTIONS \n 
URL:https://epoxyontario.ca/workshop/2026-casting-classes-level-2-epoxy-workshops-kincardine/
LOCATION:TOWNE PLACE SUITES KINCARDINE\, KINCARDINE\, ONTARIO\, Canada
CATEGORIES:Intermediate Workshops
ATTACH;FMTTYPE=image/jpeg:https://epoxyontario.ca/wp-content/uploads/2025/03/PURPLE-CLOCK-e1760109507871.jpg
ORGANIZER;CN="Epoxy Ontario":MAILTO:epoxyontario@outlook.com
END:VEVENT
BEGIN:VEVENT
DTSTART;TZID=America/Toronto:20260524T120000
DTEND;TZID=America/Toronto:20260524T150000
DTSTAMP:20260420T031624
CREATED:20260112T221532Z
LAST-MODIFIED:20260113T185616Z
UID:6981-1779624000-1779634800@epoxyontario.ca
SUMMARY:2026 ART & DESIGN WITH EPOXY – EPOXY EMBEDDING CLASS - CORNWALL
DESCRIPTION:EPOXY EMBEDDING CLASS – 12″ ROUND TRAY & 4 X 3″ COASTERS WITH EPOXY AND DESIGN\nIT’S ALL ABOUT EMBEDDING!!!! \nWHAT BETTER WAY TO LEARN THE ART OF EPOXY? THIS HANDS ON CLASS NOT ONLY GIVES YOU THE INFORMATION NECESSARY TO ENJOY WORKING WITH EPOXY BUT YOU ARE ALSO CREATING A GORGEOUS PROJECT TO KEEP OR GIFT!! \nTHESE CLASSES RUN ROUGHLY 3 HOURS IN DURATION WITH A FULL TUTORIAL BY US: FOLLOWED BY YOU WORKING ON YOUR OWN PROJECT \nNOT ONLY IS THIS CLASS AMAZING BECAUSE YOU WILL BE DESIGNING YOUR OWN CREATIONS – BUT YOU ALSO GET TO KEEP THE COASTER MOLDS!!! \n12″ ROUND TRAY WITH 4 X 3″ COASTERS EMBEDDED – $250 PLUS TAX \n**ADDITIONS FOR EMBEDDING ARE NOT INCLUDED & MUST BE BROUGHT WITH YOU – MUST BE SMALL/FLAT** \n  \n50% PLUS TAX DUE AT TIME OF REGISTRATION – BALANCE IS DUE DAY OF WORKSHOP \n**DEPOSITS ARE NON-REFUNDABLE – NO SHOW TO THE CLASS WILL RESULT IN AMOUNT OUTSTANDING STILL BEING BILLED TO YOU = ZERO EXCEPTIONS \n 
URL:https://epoxyontario.ca/workshop/2026-art-design-with-epoxy-epoxy-embedding-class-cornwall/
CATEGORIES:Beginner Workshops,embedding in epoxy,Intermediate Workshops
ATTACH;FMTTYPE=image/jpeg:https://epoxyontario.ca/wp-content/uploads/2025/02/EMBEDDING.jpg
ORGANIZER;CN="Epoxy Ontario":MAILTO:epoxyontario@outlook.com
END:VEVENT
END:VCALENDAR